Workbook

Sheet 總表
B2: 教室整潔評分表
B6: 評分項目（-2~+2）
C7: 701 | D7: 702 | E7: 703 | F7: 704 | G7: 705 | H7: 706 | I7: 801 | J7: 802 | K7: 803 | L7: 804 | M7: 805 | N7: 806 | O7: 901 | P7: 902 | Q7: 903 | R7: 904 | S7: 905
A8: 星期一 | B8: 走廊(含前方花圃或水溝) | C8: 0 | D8: 0 | E8: 0 | F8: 0 | G8: 0 | H8: 0 | I8: 0 | J8: 0 | K8: 0 | L8: 0 | M8: 0 | N8: 0 | O8: 0 | P8: 0 | Q8: 0 | R8: 0 | S8: 0
B9: 窗戶 | C9: 0 | D9: 0 | E9: 0 | F9: 0 | G9: 0 | H9: 0 | I9: 0 | J9: 0 | K9: 0 | L9: 0 | M9: 0 | N9: 0 | O9: 0 | P9: 0 | Q9: 0 | R9: 0 | S9: 0
B10: 教室地面 | C10: 0 | D10: 0 | E10: 0 | F10: 0 | G10: 0 | H10: 0 | I10: 0 | J10: 0 | K10: 0 | L10: 0 | M10: 0 | N10: 0 | O10: 0 | P10: 0 | Q10: 0 | R10: 0 | S10: 0
B11: 桌椅、抽屜 | C11: 0 | D11: 0 | E11: 0 | F11: 0 | G11: 0 | H11: 0 | I11: 0 | J11: 0 | K11: 0 | L11: 0 | M11: 0 | N11: 0 | O11: 0 | P11: 0 | Q11: 0 | R11: 0 | S11: 0
B12: 黑板、溝槽與講桌 | C12: 0 | D12: 0 | E12: 0 | F12: 0 | G12: 0 | H12: 0 | I12: 0 | J12: 0 | K12: 0 | L12: 0 | M12: 0 | N12: 0 | O12: 0 | P12: 0 | Q12: 0 | R12: 0 | S12: 0
B13: 陽台、洗手台、清洗槽 | C13: 0 | D13: 0 | E13: 0 | F13: 0 | G13: 0 | H13: 0 | I13: 0 | J13: 0 | K13: 0 | L13: 0 | M13: 0 | N13: 0 | O13: 0 | P13: 0 | Q13: 0 | R13: 0 | S13: 0
B14: 掃地用具排列 | C14: 0 | D14: 0 | E14: 0 | F14: 0 | G14: 0 | H14: 0 | I14: 0 | J14: 0 | K14: 0 | L14: 0 | M14: 0 | N14: 0 | O14: 0 | P14: 0 | Q14: 0 | R14: 0 | S14: 0
B15: 置物櫃 | C15: 0 | D15: 0 | E15: 0 | F15: 0 | G15: 0 | H15: 0 | I15: 0 | J15: 0 | K15: 0 | L15: 0 | M15: 0 | N15: 0 | O15: 0 | P15: 0 | Q15: 0 | R15: 0 | S15: 0
B16: 垃圾桶、資源回收分類(分類與壓扁) | C16: 0 | D16: 0 | E16: 0 | F16: 0 | G16: 0 | H16: 0 | I16: 0 | J16: 0 | K16: 0 | L16: 0 | M16: 0 | N16: 0 | O16: 0 | P16: 0 | Q16: 0 | R16: 0 | S16: 0
B17: 牆面及天花板 | C17: 0 | D17: 0 | E17: 0 | F17: 0 | G17: 0 | H17: 0 | I17: 0 | J17: 0 | K17: 0 | L17: 0 | M17: 0 | N17: 0 | O17: 0 | P17: 0 | Q17: 0 | R17: 0 | S17: 0
A18: 星期二 | B18: 走廊(含前方花圃或水溝) | C18: 2 | D18: 2 | E18: 2 | F18: 2 | G18: 2 | H18: 2 | I18: 0 | J18: 0 | K18: 0 | L18: 0 | M18: 0 | N18: 0 | O18: 1 | P18: -1 | Q18: 1 | R18: -1 | S18: 0
B19: 窗戶 | C19: 2 | D19: 2 | E19: 2 | F19: 2 | G19: 2 | H19: 2 | I19: 1 | J19: 0 | K19: 1 | L19: 0 | M19: 0 | N19: -2 | O19: 0 | P19: -1 | Q19: 0 | R19: 0 | S19: -2
B20: 教室地面 | C20: 2 | D20: 1 | E20: 2 | F20: 2 | G20: 2 | H20: 2 | I20: 1 | J20: -1 | K20: 1 | L20: 1 | M20: 0 | N20: -1 | O20: 1 | P20: 0 | Q20: 0 | R20: 0 | S20: 0
B21: 桌椅、抽屜 | C21: 0 | D21: 0 | E21: 0 | F21: 0 | G21: 0 | H21: 0 | I21: 0 | J21: 0 | K21: 0 | L21: 0 | M21: 1 | N21: 0 | O21: 0 | P21: 0 | Q21: 0 | R21: 0 | S21: 0
B22: 黑板、溝槽與講桌 | C22: 2 | D22: 1 | E22: 2 | F22: -1 | G22: 2 | H22: 2 | I22: 1 | J22: -1 | K22: 2 | L22: 0 | M22: 1 | N22: 0 | O22: 0 | P22: 0 | Q22: 0 | R22: 1 | S22: 0
B23: 陽台、洗手台、清洗槽 | C23: -1 | D23: 1 | E23: 1 | F23: 2 | G23: 1 | H23: 1 | I23: -1 | J23: -1 | K23: 2 | L23: 1 | M23: -1 | N23: -1 | O23: 0 | P23: 0 | Q23: 0 | R23: 0 | S23: 0
B24: 掃地用具排列 | C24: 2 | D24: 2 | E24: 2 | F24: 2 | G24: 2 | H24: 2 | I24: 0 | J24: 1 | K24: 2 | L24: 1 | M24: 0 | N24: 1 | O24: 0 | P24: 0 | Q24: 0 | R24: 0 | S24: 0
B25: 置物櫃 | C25: 0 | D25: 0 | E25: 0 | F25: 0 | G25: 0 | H25: 0 | I25: 0 | J25: 0 | K25: 0 | L25: 0 | M25: 0 | N25: -1 | O25: -1 | P25: 0 | Q25: 0 | R25: 0 | S25: 0
B26: 垃圾桶、資源回收分類(分類與壓扁) | C26: 2 | D26: 1 | E26: 1 | F26: 1 | G26: 2 | H26: 2 | I26: 0 | J26: 0 | K26: 0 | L26: 0 | M26: 0 | N26: 1 | O26: 0 | P26: 0 | Q26: 0 | R26: 0 | S26: 0
B27: 牆面及天花板 | C27: 0 | D27: 0 | E27: 0 | F27: 0 | G27: 0 | H27: 0 | I27: 0 | J27: 0 | K27: 0 | L27: 0 | M27: 0 | N27: 0 | O27: 0 | P27: 0 | Q27: 0 | R27: 0 | S27: 0
A28: 星期三 | B28: 走廊(含前方花圃或水溝) | C28: 2 | D28: 2 | E28: 2 | F28: 1 | G28: 2 | H28: 2 | I28: 0 | J28: 0 | K28: 0 | L28: 0 | M28: 0 | N28: 0 | O28: 1 | P28: 1 | Q28: 1 | R28: -1 | S28: -1
B29: 窗戶 | C29: 2 | D29: 2 | E29: 2 | F29: 2 | G29: 2 | H29: 2 | I29: 1 | J29: 1 | K29: 0 | L29: 0 | M29: 0 | N29: 0 | O29: 0 | P29: 0 | Q29: 1 | R29: 1 | S29: -1
B30: 教室地面 | C30: 1 | D30: 1 | E30: 2 | F30: 2 | G30: 2 | H30: 2 | I30: 1 | J30: 0 | K30: 0 | L30: 1 | M30: 0 | N30: 0 | O30: 0 | P30: 0 | Q30: 0 | R30: 0 | S30: 0
B31: 桌椅、抽屜 | C31: 0 | D31: 0 | E31: 0 | F31: 0 | G31: 0 | H31: 0 | I31: 0 | J31: 1 | K31: 0 | L31: 0 | M31: 1 | N31: 0 | O31: 0 | P31: 0 | Q31: 0 | R31: 0 | S31: 0
B32: 黑板、溝槽與講桌 | C32: 1 | D32: 1 | E32: 2 | F32: -1 | G32: 1 | H32: 2 | I32: 1 | J32: 0 | K32: 1 | L32: 0 | M32: 1 | N32: 1 | O32: 0 | P32: -1 | Q32: 0 | R32: 0 | S32: 0
B33: 陽台、洗手台、清洗槽 | C33: 2 | D33: -1 | E33: 2 | F33: 2 | G33: 1 | H33: 2 | I33: 0 | J33: 0 | K33: 1 | L33: 1 | M33: 0 | N33: 0 | O33: 0 | P33: 0 | Q33: 0 | R33: 0 | S33: 0
B34: 掃地用具排列 | C34: 1 | D34: 2 | E34: 1 | F34: 2 | G34: 2 | H34: 2 | I34: 0 | J34: 1 | K34: 1 | L34: 1 | M34: 0 | N34: 1 | O34: 0 | P34: 0 | Q34: 0 | R34: 0 | S34: 0
B35: 置物櫃 | C35: 0 | D35: 0 | E35: 0 | F35: 0 | G35: 0 | H35: 0 | I35: 0 | J35: 0 | K35: 0 | L35: 0 | M35: 0 | N35: 0 | O35: 0 | P35: -1 | Q35: 0 | R35: -1 | S35: 0
B36: 垃圾桶、資源回收分類(分類與壓扁) | C36: 2 | D36: 2 | E36: 2 | F36: 2 | G36: 2 | H36: 2 | I36: 0 | J36: 0 | K36: 0 | L36: 0 | M36: 1 | N36: 0 | O36: 0 | P36: 0 | Q36: 0 | R36: 0 | S36: 0
B37: 牆面及天花板 | C37: 0 | D37: 0 | E37: 0 | F37: 0 | G37: 0 | H37: 0 | I37: 0 | J37: 0 | K37: 0 | L37: 0 | M37: 0 | N37: 1 | O37: 0 | P37: 0 | Q37: 0 | R37: 0 | S37: 0
A38: 星期四 | B38: 走廊(含前方花圃或水溝) | C38: 0 | D38: 0 | E38: 0 | F38: 0 | G38: 0 | H38: 0 | I38: 0 | J38: 0 | K38: 0 | L38: 0 | M38: 0 | N38: 0 | O38: 0 | P38: 0 | Q38: 0 | R38: 0 | S38: 1
B39: 窗戶 | C39: 0 | D39: 0 | E39: 0 | F39: 0 | G39: 0 | H39: 0 | I39: 0 | J39: 0 | K39: 0 | L39: 0 | M39: 0 | N39: 0 | O39: 0 | P39: 0 | Q39: 0 | R39: 0 | S39: 0
B40: 教室地面 | C40: 0 | D40: 0 | E40: 0 | F40: 0 | G40: 0 | H40: 0 | I40: 0 | J40: 0 | K40: 0 | L40: 0 | M40: 0 | N40: 0 | O40: 1 | P40: 0 | Q40: 1 | R40: 1 | S40: 0
B41: 桌椅、抽屜 | C41: 0 | D41: 0 | E41: 0 | F41: 0 | G41: 0 | H41: 0 | I41: 0 | J41: 0 | K41: 0 | L41: 0 | M41: 0 | N41: 0 | O41: 0 | P41: -1 | Q41: 0 | R41: 0 | S41: 0
B42: 黑板、溝槽與講桌 | C42: 0 | D42: 0 | E42: 0 | F42: 0 | G42: 0 | H42: 0 | I42: 0 | J42: 0 | K42: 0 | L42: 0 | M42: 0 | N42: 0 | O42: 0 | P42: 0 | Q42: 1 | R42: 0 | S42: 0
B43: 陽台、洗手台、清洗槽 | C43: 0 | D43: 0 | E43: 0 | F43: 0 | G43: 0 | H43: 0 | I43: 0 | J43: 0 | K43: 0 | L43: 0 | M43: 0 | N43: 0 | O43: 0 | P43: 0 | Q43: 0 | R43: 0 | S43: 0
B44: 掃地用具排列 | C44: 0 | D44: 0 | E44: 0 | F44: 0 | G44: 0 | H44: 0 | I44: 0 | J44: 0 | K44: 0 | L44: 0 | M44: 0 | N44: 0 | O44: 0 | P44: 0 | Q44: 0 | R44: 0 | S44: 0
...

Sheet 外掃區域
B1: 外掃區評分表
B3: 週次: 第16週 上午 下午 評分者:
A5: 區域 | B5: 評分重點分數(-2~+2) | C5: 星期一 上午 | D5: 星期一 下午 | E5: 星期二 上午 | F5: 星期二 下午 | G5: 星期三 上午 | H5: 星期三 下午 | I5: 星期四 上午 | J5: 星期四 下午 | K5: 星期五 上午 | L5: 星期五 下午
A6: A區 802 | B6: 1.學務處及健康中心：地面清掃、窗戶灰塵擦拭、垃圾及資源回收傾倒 | C6: 0 | D6: 1 | E6: 1 | F6: 0 | G6: 1 | H6: 0 | I6: 0 | J6: 1 | K6: -1 | L6: 0
B7: 2.學務處前走廊、露天廣場、水溝、花圃：撿拾垃圾 | C7: 0 | D7: 1 | E7: 0 | F7: 0 | G7: 1 | H7: 1 | I7: 0 | J7: 1 | K7: 1 | L7: 0
B8: 3.學務處旁男女廁所(洗手台、鏡子、拖把槽、地面、垃圾桶、掃具間、馬桶、小便斗)：清潔乾燥 | C8: 0 | D8: 1 | E8: 1 | F8: 0 | G8: 0 | H8: 1 | I8: 0 | J8: 0 | K8: -1 | L8: 1
B9: 4.幸福班及學習中心後方花圃、階梯、草地、樓梯(往2F)：地面清潔、拔草 | C9: 0 | D9: 1 | E9: 0 | F9: 1 | G9: 1 | H9: 0 | I9: 0 | J9: 0 | K9: 0 | L9: 1 | M9: =A6 -> A區 802
B10: 總計 | C10: =SUM(C6:C9) -> 0 | D10: =SUM(D6:D9) -> 4 | E10: =SUM(E6:E9) -> 2 | F10: =SUM(F6:F9) -> 1 | G10: =SUM(G6:G9) -> 3 | H10: =SUM(H6:H9) -> 2 | I10: =SUM(I6:I9) -> 0 | J10: =SUM(J6:J9) -> 2 | ... L10: =SUM(L6:L9) -> 2 | M10: 總平均
B11: 平均 | C11: =AVERAGE(C6:C9) -> 0 | D11: =AVERAGE(D6:D9) -> 1 | E11: =AVERAGE(E6:E9) -> 0.5 | F11: =AVERAGE(F6:F9) -> 0.25 | G11: =AVERAGE(G6:G9) -> 0.75 | H11: =AVERAGE(H6:H9) -> 0.5 | I11: =AVERAGE(I6:I9) -> 0 | J11: =AVERAGE(J6:J9) -> 0.5 | ... L11: =AVERAGE(L6:L9) -> 0.5 | M11: =SUM(C11:L11)/5 -> 0.75
A12: B區 803 | B12: 1.1F穿堂、羅馬柱廣場、花崗岩地磚、舞台及諮商室兩側走廊：地面清潔、垃圾撿拾 | C12: 0 | D12: 1 | E12: 0 | F12: -1 | G12: -1 | H12: 0 | I12: 0 | J12: -1 | K12: 1 | L12: -4
B13: 2.體器室兩側往B1樓梯(含1F平台)：地面清潔、垃圾撿拾、洗手台清潔、扶手擦拭、飲水機清理 | C13: 0 | D13: 1 | E13: 0 | F13: 1 | G13: 0 | H13: 0 | I13: 0 | J13: 0 | K13: 1 | L13: 0
B14: 3.體育器材室及諮商室後方水溝：保持清潔、乾燥 | C14: 0 | D14: 1 | E14: 1 | F14: 1 | G14: 0 | H14: 1 | I14: 0 | J14: 0 | K14: 0 | L14: 0
B15: 4.圍牆內空地、花圃(含無障礙走道)、校門外人行道(含水溝)及花圃：地面清潔、撿拾垃圾、拔草 | C15: 0 | D15: 1 | E15: 1 | F15: 1 | G15: 0 | H15: 1 | I15: 0 | J15: -1 | K15: 0 | L15: 0 | M15: =A12 -> B區 803
B16: 總計 | C16: =SUM(C12:C15) -> 0 | D16: =SUM(D12:D15) -> 4 | E16: =SUM(E12:E15) -> 2 | F16: =SUM(F12:F15) -> 2 | G16: =SUM(G12:G15) -> -1 | H16: =SUM(H12:H15) -> 2 | I16: =SUM(I12:I15) -> 0 | J16: =SUM(J12:J15) -> -2 | ... L16: =SUM(L12:L15) -> -4 | M16: 總平均
B17: 平均 | C17: =AVERAGE(C12:C15) -> 0 | D17: =AVERAGE(D12:D15) -> 1 | E17: =AVERAGE(E12:E15) -> 0.5 | F17: =AVERAGE(F12:F15) -> 0.5 | G17: =AVERAGE(G12:G15) -> -0.25 | H17: =AVERAGE(H12:H15) -> 0.5 | I17: =AVERAGE(I12:I15) -> 0 | J17: =AVERAGE(J12:J15) -> -0.5 | ... L17: =AVERAGE(L12:L15) -> -1 | M17: =SUM(C17:L17)/5 -> 0.25
A18: C區 804 | B18: 1.總務處：地面清潔、窗戶灰塵擦拭、垃圾及資源回收傾倒 | C18: 0 | D18: -1 | E18: 1 | F18: 0 | G18: 1 | H18: 1 | I18: 0 | J18: 0 | K18: 1 | L18: 0
B19: 2.總務處前走廊、後走廊、露天廣場、水溝、花圃及中棟幼兒園樓梯(往2F)：地面清潔、撿拾垃圾 | C19: 0 | D19: 0 | E19: -1 | F19: 0 | G19: 1 | H19: 1 | I19: 0 | J19: 1 | K19: 1 | L19: 1
B20: 3.總務處旁男女廁所(洗手台、鏡子、拖把槽、地面、垃圾桶、掃具間、馬桶、小便斗)：清潔乾燥 | C20: 0 | D20: 0 | E20: 0 | F20: 0 | G20: 0 | H20: 1 | I20: 0 | J20: 1 | K20: 1 | L20: -2 | M20: =A18 -> C區 804
B21: 總計 | C21: =SUM(C18:C20) -> 0 | D21: =SUM(D18:D20) -> -1 | E21: =SUM(E18:E20) -> 0 | F21: =SUM(F18:F20) -> 0 | G21: =SUM(G18:G20) -> 2 | H21: =SUM(H18:H20) -> 3 | I21: =SUM(I18:I20) -> 0 | J21: =SUM(J18:J20) -> 2 | ... L21: =SUM(L18:L20) -> -1 | M21: 總平均
B22: 平均 | C22: =AVERAGE(C18:C20) -> 0 | D22: =AVERAGE(D18:D20) -> -0.33333333 | E22: =AVERAGE(E18:E20) -> 0 | F22: =AVERAGE(F18:F20) -> 0 | G22: =AVERAGE(G18:G20) -> 0.66666667 | H22: =AVERAGE(H18:H20) -> 1 | I22: =AVERAGE(I18:I20) -> 0 | J22: =AVERAGE(J18:J20) -> 0.66666667 | ... L22: =AVERAGE(L18:L20) -> -0.33333333 | M22: =SUM(C22:L22)/5 -> 0.53333333
A23: D區 804 | B23: 1.籃球場、垃圾子母車、花圃及警衛室連接總務處風雨走廊：地面清潔、垃圾撿拾 | C23: 0 | D23: -1 | E23: 0 | F23: 0 | G23: 0 | H23: 1 | I23: 0 | J23: 0 | K23: -1 | L23: 0 | M23: =A23 -> D區 804
B24: 總計 | C24: =SUM(C23:C23) -> 0 | D24: =SUM(D23:D23) -> -1 | E24: =SUM(E23:E23) -> 0 | F24: =SUM(F23:F23) -> 0 | G24: =SUM(G23:G23) -> 0 | H24: =SUM(H23:H23) -> 1 | I24: =SUM(I23:I23) -> 0 | J24: =SUM(J23:J23) -> 0 | ... L24: =SUM(L23:L23) -> 0 | M24: 總平均
B25: 平均 | C25: =AVERAGE(C23:C23) -> 0 | D25: =AVERAGE(D23:D23) -> -1 | E25: =AVERAGE(E23:E23) -> 0 | F25: =AVERAGE(F23:F23) -> 0 | G25: =AVERAGE(G23:G23) -> 0 | H25: =AVERAGE(H23:H23) -> 1 | I25: =AVERAGE(I23:I23) -> 0 | J25: =AVERAGE(J23:J23) -> 0 | ... L25: =AVERAGE(L23:L23) -> 0 | M25: =SUM(C25:L25)/5 -> -0.2
A26: E區 805 | B26: 1.八導辦公室：地面清掃、窗戶灰塵擦拭、垃圾及資源回收傾倒、飲水機清理 | C26: 0 | D26: 0 | E26: 1 | F26: -1 | G26: 0 | H26: 0 | I26: 0 | J26: 1 | K26: 1 | L26: 1
B27: 2.八導辦公室前走廊：地面清潔、花圃澆水、洗手台清理 | C27: 0 | D27: 0 | E27: 1 | F27: 0 | G27: 1 | H27: -1 | I27: 0 | J27: 1 | K27: 1 | L27: 1
B28: 3.校長室旁男女廁所(洗手台、鏡子、拖把槽、地面、垃圾桶、掃具間、馬桶、小便斗)：清潔乾燥 | C28: 0 | D28: 1 | E28: -2 | F28: 1 | G28: 1 | H28: 1 | I28: 0 | J28: 1 | K28: 1 | L28: 1
B29: 4.廁所前空地、飲水機：地面清潔、飲水機擦拭 | C29: 0 | D29: 0 | E29: 1 | F29: 1 | G29: 1 | H29: 1 | I29: 0 | J29: 0 | K29: 1 | L29: 1 | M29: =A26 -> E區 805
B30: 總計 | C30: =SUM(C26:C29) -> 0 | D30: =SUM(D26:D29) -> 1 | E30: =SUM(E26:E29) -> 1 | F30: =SUM(F26:F29) -> 1 | G30: =SUM(G26:G29) -> 3 | H30: =SUM(H26:H29) -> 1 | I30: =SUM(I26:I29) -> 0 | J30: =SUM(J26:J29) -> 3 | ... L30: =SUM(L26:L29) -> 4 | M30: 總平均
B31: 平均 | C31: =AVERAGE(C26:C29) -> 0 | D31: =AVERAGE(D26:D29) -> 0.25 | E31: =AVERAGE(E26:E29) -> 0.25 | F31: =AVERAGE(F26:F29) -> 0.25 | G31: =AVERAGE(G26:G29) -> 0.75 | H31: =AVERAGE(H26:H29) -> 0.25 | I31: =AVERAGE(I26:I29) -> 0 | J31: =AVERAGE(J26:J29) -> 0.75 | ... L31: =AVERAGE(L26:L29) -> 1 | M31: =SUM(C31:L31)/5 -> 0.9
A32: F區 801 | B32: 1.教務處旁男女廁所(洗手台、鏡子、拖把槽、地面、垃圾桶、掃具間、馬桶、小便斗)：清潔乾燥 | C32: 0 | D32: -2 | E32: 0 | F32: -2 | G32: 1 | H32: -1 | I32: 0 | J32: 0 | K32: 0 | L32: 1
B33: 2.廁所前空地、飲水機：地面清潔、飲水機擦拭 | C33: 0 | D33: 1 | E33: 1 | F33: 0 | G33: 0 | H33: 0 | I33: 0 | J33: 0 | K33: 1 | L33: 0
B34: 3.教務處：地面清潔、垃圾及資源回收傾倒、走廊、窗戶、飲水機、洗手台 | C34: 0 | D34: -1 | E34: 0 | F34: 0 | G34: 0 | H34: 0 | I34: 0 | J34: 0 | K34: 1 | L34: 0
B35: 4.教務處走廊(含左前方走廊)：地面清潔、洗手台清理、花圃澆水 | C35: 0 | D35: 1 | E35: 0 | F35: 1 | G35: 0 | H35: 1 | I35: 0 | J35: -1 | K35: 1 | L35: 0 | M35: =A32 -> F區 801
B36: 總計 | C36: =SUM(C32:C35) -> 0 | D36: =SUM(D32:D35) -> -1 | E36: =SUM(E32:E35) -> 1 | F36: =SUM(F32:F35) -> -1 | G36: =SUM(G32:G35) -> 1 | H36: =SUM(H32:H35) -> 0 | I36: =SUM(I32:I35) -> 0 | J36: =SUM(J32:J35) -> -1 | ... L36: =SUM(L32:L35) -> 1 | M36: 總平均
B37: 平均 | C37: =AVERAGE(C32:C35) -> 0 | D37: =AVERAGE(D32:D35) -> -0.25 | E37: =AVERAGE(E32:E35) -> 0.25 | F37: =AVERAGE(F32:F35) -> -0.25 | G37: =AVERAGE(G32:G35) -> 0.25 | H37: =AVERAGE(H32:H35) -> 0 | I37: =AVERAGE(I32:I35) -> 0 | J37: =AVERAGE(J32:J35) -> -0.25 | ... L37: =AVERAGE(L32:L35) -> 0.25 | M37: =SUM(C37:L37)/5 -> 0.15
A38: G區 706 | B38: 1.2F校史室前方廣場及兩側走廊、人工草皮：地面清潔、垃圾撿拾、洗手台、飲水機清理及花圃澆水 | C38: 0 | D38: -1 | E38: 0 | F38: 1 | G38: 0 | H38: -1 | I38: 0 | J38: 1 | K38: -1 | L38: 0
B39: 2.3F英語教室、儲藏室前方廣場及兩側走廊：地面清潔、垃圾撿拾、洗手台、飲水機清理及花圃澆水 | C39: 0 | D39: 1 | E39: 1 | F39: 1 | G39: 1 | H39: 1 | I39: 0 | J39: 1 | K39: 1 | L39: 1
B40: 3.2F印刷室及3F英語教室兩邊外側玻璃窗戶及展示玻璃：擦拭清潔 | C40: 0 | D40: 1 | E40: -1 | F40: 0 | G40: -1 | H40: 1 | I40: 0 | J40: 0 | K40: 0 | L40: 1
B41: 4.3F-706隔壁自我挑戰營前走廊：地面清潔 | C41: 0 | D41: 1 | E41: 1 | F41: 0 | G41: -1 | H41: 0 | I41: 0 | J41: 1 | K41: 1 | L41: 1 | M41: =A38 -> G區 706
B42: 總計 | C42: =SUM(C38:C41) -> 0 | D42: =SUM(D38:D41) -> 2 | E42: =SUM(E38:E41) -> 1 | F42: =SUM(F38:F41) -> 2 | G42: =SUM(G38:G41) -> -1 | H42: =SUM(H38:H41) -> 1 | I42: =SUM(I38:I41) -> 0 | J42: =SUM(J38:J41) -> 3 | ... L42: =SUM(L38:L41) -> 3 | M42: 總平均
...
