Workbook

Sheet 總表
B2: 教室整潔評分表
B6: 評分項目（-2~+2）
C7: 701 | D7: 702 | E7: 703 | F7: 704 | G7: 705 | H7: 706 | I7: 801 | J7: 802 | K7: 803 | L7: 804 | M7: 805 | N7: 806 | O7: 901 | P7: 902 | Q7: 903 | R7: 904 | S7: 905
A8: 星期一 | B8: 走廊(含前方花圃或水溝) | C8: 0 | D8: 0 | E8: 0 | F8: 0 | G8: 0 | H8: 0 | I8: 0 | J8: 0 | K8: 0 | L8: 0 | M8: 0 | N8: 0 | O8: 0 | P8: 0 | Q8: 0 | R8: 0 | S8: 0
B9: 窗戶 | C9: 0 | D9: 0 | E9: 0 | F9: 0 | G9: 0 | H9: 0 | I9: 0 | J9: 0 | K9: 0 | L9: 0 | M9: 0 | N9: 0 | O9: 0 | P9: 0 | Q9: 0 | R9: 0 | S9: 0
B10: 教室地面 | C10: 0 | D10: 0 | E10: 0 | F10: 0 | G10: 0 | H10: 0 | I10: 0 | J10: 0 | K10: 0 | L10: 0 | M10: 0 | N10: 0 | O10: 0 | P10: 0 | Q10: 0 | R10: 0 | S10: 0
B11: 桌椅、抽屜 | C11: 0 | D11: 0 | E11: 0 | F11: 0 | G11: 0 | H11: 0 | I11: 0 | J11: 0 | K11: 0 | L11: 0 | M11: 0 | N11: 0 | O11: 0 | P11: 0 | Q11: 0 | R11: 0 | S11: 0
B12: 黑板、溝槽與講桌 | C12: 0 | D12: 0 | E12: 0 | F12: 0 | G12: 0 | H12: 0 | I12: 0 | J12: 0 | K12: 0 | L12: 0 | M12: 0 | N12: 0 | O12: 0 | P12: 0 | Q12: 0 | R12: 0 | S12: 0
B13: 陽台、洗手台、清洗槽 | C13: 0 | D13: 0 | E13: 0 | F13: 0 | G13: 0 | H13: 0 | I13: 0 | J13: 0 | K13: 0 | L13: 0 | M13: 0 | N13: 0 | O13: 0 | P13: 0 | Q13: 0 | R13: 0 | S13: 0
B14: 掃地用具排列 | C14: 0 | D14: 0 | E14: 0 | F14: 0 | G14: 0 | H14: 0 | I14: 0 | J14: 0 | K14: 0 | L14: 0 | M14: 0 | N14: 0 | O14: 0 | P14: 0 | Q14: 0 | R14: 0 | S14: 0
B15: 置物櫃 | C15: 0 | D15: 0 | E15: 0 | F15: 0 | G15: 0 | H15: 0 | I15: 0 | J15: 0 | K15: 0 | L15: 0 | M15: 0 | N15: 0 | O15: 0 | P15: 0 | Q15: 0 | R15: 0 | S15: 0
B16: 垃圾桶、資源回收分類(分類與壓扁) | C16: 0 | D16: 0 | E16: 0 | F16: 0 | G16: 0 | H16: 0 | I16: 0 | J16: 0 | K16: 0 | L16: 0 | M16: 0 | N16: 0 | O16: 0 | P16: 0 | Q16: 0 | R16: 0 | S16: 0
B17: 牆面及天花板 | C17: 0 | D17: 0 | E17: 0 | F17: 0 | G17: 0 | H17: 0 | I17: 0 | J17: 0 | K17: 0 | L17: 0 | M17: 0 | N17: 0 | O17: 0 | P17: 0 | Q17: 0 | R17: 0 | S17: 0
A18: 星期二 | B18: 走廊(含前方花圃或水溝) | C18: 2 | D18: 2 | E18: 2 | F18: 2 | G18: 2 | H18: 2 | I18: 0 | J18: 0 | K18: 0 | L18: 0 | M18: 0 | N18: 0 | O18: 1 | P18: -1 | Q18: 1 | R18: -1 | S18: 0
B19: 窗戶 | C19: 2 | D19: 2 | E19: 2 | F19: 2 | G19: 2 | H19: 2 | I19: 1 | J19: 0 | K19: 1 | L19: 0 | M19: 0 | N19: -2 | O19: 0 | P19: -1 | Q19: 0 | R19: 0 | S19: -2
B20: 教室地面 | C20: 2 | D20: 1 | E20: 2 | F20: 2 | G20: 2 | H20: 2 | I20: 1 | J20: -1 | K20: 1 | L20: 1 | M20: 0 | N20: -1 | O20: 1 | P20: 0 | Q20: 0 | R20: 0 | S20: 0
B21: 桌椅、抽屜 | C21: 0 | D21: 0 | E21: 0 | F21: 0 | G21: 0 | H21: 0 | I21: 0 | J21: 0 | K21: 0 | L21: 0 | M21: 1 | N21: 0 | O21: 0 | P21: 0 | Q21: 0 | R21: 0 | S21: 0
B22: 黑板、溝槽與講桌 | C22: 2 | D22: 1 | E22: 2 | F22: -1 | G22: 2 | H22: 2 | I22: 1 | J22: -1 | K22: 2 | L22: 0 | M22: 1 | N22: 0 | O22: 0 | P22: 0 | Q22: 0 | R22: 1 | S22: 0
B23: 陽台、洗手台、清洗槽 | C23: -1 | D23: 1 | E23: 1 | F23: 2 | G23: 1 | H23: 1 | I23: -1 | J23: -1 | K23: 2 | L23: 1 | M23: -1 | N23: -1 | O23: 0 | P23: 0 | Q23: 0 | R23: 0 | S23: 0
B24: 掃地用具排列 | C24: 2 | D24: 2 | E24: 2 | F24: 2 | G24: 2 | H24: 2 | I24: 0 | J24: 1 | K24: 2 | L24: 1 | M24: 0 | N24: 1 | O24: 0 | P24: 0 | Q24: 0 | R24: 0 | S24: 0
B25: 置物櫃 | C25: 0 | D25: 0 | E25: 0 | F25: 0 | G25: 0 | H25: 0 | I25: 0 | J25: 0 | K25: 0 | L25: 0 | M25: 0 | N25: -1 | O25: -1 | P25: 0 | Q25: 0 | R25: 0 | S25: 0
B26: 垃圾桶、資源回收分類(分類與壓扁) | C26: 2 | D26: 1 | E26: 1 | F26: 1 | G26: 2 | H26: 2 | I26: 0 | J26: 0 | K26: 0 | L26: 0 | M26: 0 | N26: 1 | O26: 0 | P26: 0 | Q26: 0 | R26: 0 | S26: 0
B27: 牆面及天花板 | C27: 0 | D27: 0 | E27: 0 | F27: 0 | G27: 0 | H27: 0 | I27: 0 | J27: 0 | K27: 0 | L27: 0 | M27: 0 | N27: 0 | O27: 0 | P27: 0 | Q27: 0 | R27: 0 | S27: 0
A28: 星期三 | B28: 走廊(含前方花圃或水溝) | C28: 2 | D28: 2 | E28: 2 | F28: 1 | G28: 2 | H28: 2 | I28: 0 | J28: 0 | K28: 0 | L28: 0 | M28: 0 | N28: 0 | O28: 1 | P28: 1 | Q28: 1 | R28: -1 | S28: -1
B29: 窗戶 | C29: 2 | D29: 2 | E29: 2 | F29: 2 | G29: 2 | H29: 2 | I29: 1 | J29: 1 | K29: 0 | L29: 0 | M29: 0 | N29: 0 | O29: 0 | P29: 0 | Q29: 1 | R29: 1 | S29: -1
B30: 教室地面 | C30: 1 | D30: 1 | E30: 2 | F30: 2 | G30: 2 | H30: 2 | I30: 1 | J30: 0 | K30: 0 | L30: 1 | M30: 0 | N30: 0 | O30: 0 | P30: 0 | Q30: 0 | R30: 0 | S30: 0
B31: 桌椅、抽屜 | C31: 0 | D31: 0 | E31: 0 | F31: 0 | G31: 0 | H31: 0 | I31: 0 | J31: 1 | K31: 0 | L31: 0 | M31: 1 | N31: 0 | O31: 0 | P31: 0 | Q31: 0 | R31: 0 | S31: 0
B32: 黑板、溝槽與講桌 | C32: 1 | D32: 1 | E32: 2 | F32: -1 | G32: 1 | H32: 2 | I32: 1 | J32: 0 | K32: 1 | L32: 0 | M32: 1 | N32: 1 | O32: 0 | P32: -1 | Q32: 0 | R32: 0 | S32: 0
B33: 陽台、洗手台、清洗槽 | C33: 2 | D33: -1 | E33: 2 | F33: 2 | G33: 1 | H33: 2 | I33: 0 | J33: 0 | K33: 1 | L33: 1 | M33: 0 | N33: 0 | O33: 0 | P33: 0 | Q33: 0 | R33: 0 | S33: 0
B34: 掃地用具排列 | C34: 1 | D34: 2 | E34: 1 | F34: 2 | G34: 2 | H34: 2 | I34: 0 | J34: 1 | K34: 1 | L34: 1 | M34: 0 | N34: 1 | O34: 0 | P34: 0 | Q34: 0 | R34: 0 | S34: 0
B35: 置物櫃 | C35: 0 | D35: 0 | E35: 0 | F35: 0 | G35: 0 | H35: 0 | I35: 0 | J35: 0 | K35: 0 | L35: 0 | M35: 0 | N35: 0 | O35: 0 | P35: -1 | Q35: 0 | R35: -1 | S35: 0
B36: 垃圾桶、資源回收分類(分類與壓扁) | C36: 2 | D36: 2 | E36: 2 | F36: 2 | G36: 2 | H36: 2 | I36: 0 | J36: 0 | K36: 0 | L36: 0 | M36: 1 | N36: 0 | O36: 0 | P36: 0 | Q36: 0 | R36: 0 | S36: 0
B37: 牆面及天花板 | C37: 0 | D37: 0 | E37: 0 | F37: 0 | G37: 0 | H37: 0 | I37: 0 | J37: 0 | K37: 0 | L37: 0 | M37: 0 | N37: 1 | O37: 0 | P37: 0 | Q37: 0 | R37: 0 | S37: 0
A38: 星期四 | B38: 走廊(含前方花圃或水溝) | C38: 0 | D38: 0 | E38: 0 | F38: 0 | G38: 0 | H38: 0 | I38: 0 | J38: 0 | K38: 0 | L38: 0 | M38: 0 | N38: 0 | O38: 0 | P38: 0 | Q38: 0 | R38: 0 | S38: 1
B39: 窗戶 | C39: 0 | D39: 0 | E39: 0 | F39: 0 | G39: 0 | H39: 0 | I39: 0 | J39: 0 | K39: 0 | L39: 0 | M39: 0 | N39: 0 | O39: 0 | P39: 0 | Q39: 0 | R39: 0 | S39: 0
B40: 教室地面 | C40: 0 | D40: 0 | E40: 0 | F40: 0 | G40: 0 | H40: 0 | I40: 0 | J40: 0 | K40: 0 | L40: 0 | M40: 0 | N40: 0 | O40: 1 | P40: 0 | Q40: 1 | R40: 1 | S40: 0
B41: 桌椅、抽屜 | C41: 0 | D41: 0 | E41: 0 | F41: 0 | G41: 0 | H41: 0 | I41: 0 | J41: 0 | K41: 0 | L41: 0 | M41: 0 | N41: 0 | O41: 0 | P41: -1 | Q41: 0 | R41: 0 | S41: 0
B42: 黑板、溝槽與講桌 | C42: 0 | D42: 0 | E42: 0 | F42: 0 | G42: 0 | H42: 0 | I42: 0 | J42: 0 | K42: 0 | L42: 0 | M42: 0 | N42: 0 | O42: 0 | P42: 0 | Q42: 1 | R42: 0 | S42: 0
B43: 陽台、洗手台、清洗槽 | C43: 0 | D43: 0 | E43: 0 | F43: 0 | G43: 0 | H43: 0 | I43: 0 | J43: 0 | K43: 0 | L43: 0 | M43: 0 | N43: 0 | O43: 0 | P43: 0 | Q43: 0 | R43: 0 | S43: 0
B44: 掃地用具排列 | C44: 0 | D44: 0 | E44: 0 | F44: 0 | G44: 0 | H44: 0 | I44: 0 | J44: 0 | K44: 0 | L44: 0 | M44: 0 | N44: 0 | O44: 0 | P44: 0 | Q44: 0 | R44: 0 | S44: 0
B45: 置物櫃 | C45: 0 | D45: 0 | E45: 0 | F45: 0 | G45: 0 | H45: 0 | I45: 0 | J45: 0 | K45: 0 | L45: 0 | M45: 0 | N45: 0 | O45: 0 | P45: -1 | Q45: 0 | R45: 0 | S45: 0
B46: 垃圾桶、資源回收分類(分類與壓扁) | C46: 0 | D46: 0 | E46: 0 | F46: 0 | G46: 0 | H46: 0 | I46: 0 | J46: 0 | K46: 0 | L46: 0 | M46: 0 | N46: 0 | O46: 0 | P46: 0 | Q46: 0 | R46: 0 | S46: 0
B47: 牆面及天花板 | C47: 0 | D47: 0 | E47: 0 | F47: 0 | G47: 0 | H47: 0 | I47: 0 | J47: 0 | K47: 0 | L47: 0 | M47: 0 | N47: 0 | O47: 0 | P47: 0 | Q47: 0 | R47: 0 | S47: 0
A48: 星期五 | B48: 走廊(含前方花圃或水溝) | C48: 2 | D48: 2 | E48: 2 | F48: 1 | G48: 2 | H48: -1 | I48: 0 | J48: 1 | K48: 0 | L48: 0 | M48: 0 | N48: 1 | O48: 0 | P48: -1 | Q48: 1 | R48: -1 | S48: -2
B49: 窗戶 | C49: 2 | D49: 2 | E49: 2 | F49: 2 | G49: 2 | H49: 2 | I49: 1 | J49: 1 | K49: 1 | L49: 0 | M49: 1 | N49: 1 | O49: 1 | P49: -1 | Q49: 0 | R49: 0 | S49: 0
B50: 教室地面 | C50: 2 | D50: 1 | E50: 1 | F50: -1 | G50: 2 | H50: 2 | I50: 0 | J50: -1 | K50: 2 | L50: 1 | M50: 0 | N50: -2 | O50: 0 | P50: 0 | Q50: -1 | R50: -1 | S50: -1
B51: 桌椅、抽屜 | C51: 0 | D51: 0 | E51: 0 | F51: 0 | G51: 0 | H51: 0 | I51: 1 | J51: 0 | K51: 1 | L51: 0 | M51: 1 | N51: -1 | O51: 0 | P51: 0 | Q51: 0 | R51: 0 | S51: 0
B52: 黑板、溝槽與講桌 | C52: 1 | D52: 1 | E52: 2 | F52: 2 | G52: 2 | H52: 2 | I52: 2 | J52: 0 | K52: 2 | L52: 1 | M52: 2 | N52: 2 | O52: 1 | P52: -1 | Q52: 1 | R52: 0 | S52: 0
B53: 陽台、洗手台、清洗槽 | C53: -1 | D53: 2 | E53: 2 | F53: -1 | G53: 2 | H53: -1 | I53: 2 | J53: 1 | K53: 1 | L53: 1 | M53: 2 | N53: 0 | O53: 0 | P53: 0 | Q53: 0 | R53: 0 | S53: 0
B54: 掃地用具排列 | C54: 2 | D54: 2 | E54: 2 | F54: 2 | G54: 2 | H54: 2 | I54: 1 | J54: 1 | K54: 1 | L54: 1 | M54: 0 | N54: 1 | O54: 0 | P54: 0 | Q54: 1 | R54: -1 | S54: 0
B55: 置物櫃 | C55: 0 | D55: 0 | E55: 0 | F55: 0 | G55: 0 | H55: 0 | I55: 0 | J55: 0 | K55: 0 | L55: 0 | M55: 1 | N55: -1 | O55: 0 | P55: 0 | Q55: 0 | R55: 0 | S55: 0
B56: 垃圾桶、資源回收分類(分類與壓扁) | C56: 2 | D56: 2 | E56: 2 | F56: 1 | G56: 2 | H56: 2 | I56: 1 | J56: 1 | K56: 1 | L56: 1 | M56: 1 | N56: -1 | O56: 0 | P56: 0 | Q56: 0 | R56: 0 | S56: 0
B57: 牆面及天花板 | C57: 0 | D57: 0 | E57: 0 | F57: 0 | G57: 0 | H57: 0 | I57: 0 | J57: 0 | K57: 0 | L57: 0 | M57: 0 | N57: 0 | O57: 0 | P57: 0 | Q57: 0 | R57: 0 | S57: 0
B58: 總分(教室) | C58: =SUM(C$8:C$57)/5 -> 6.4 | D58: =SUM(D$8:D$57)/5 -> 6.2 | E58: =SUM(E$8:E$57)/5 -> 7.6 | F58: =SUM(F$8:F$57)/5 -> 5.2 | G58: =SUM(G$8:G$57)/5 -> 7.8 | H58: =SUM(H$8:H$57)/5 -> 7 | I58: =SUM(I$8:I$57)/5 -> 2.6 | J58: =SUM(J$8:J$57)/5 -> 1 | ... S58: =SUM(S$8:S$57)/5 -> -1.2
B59: 外掃 | C59: =外掃區域!C131 -> 0.8 | D59: =外掃區域!D131 -> 0.85 | E59: =外掃區域!E131 -> 0.6 | F59: =外掃區域!F131 -> -0.5 | G59: =外掃區域!G131 -> 0.8 | H59: =外掃區域!H131 -> 0.6 | I59: =外掃區域!C133 -> 0.15 | J59: =外掃區域!D133 -> 0.75 | K59: =外掃區域!E133 -> 0.25 | L59: =外掃區域!F133 -> 0.35 | M59: =外掃區域!G133 -> 0.9 | N59: =外掃區域!H133 -> -0.28 | O59: =外掃區域!C135 -> 1.6 | P59: =外掃區域!D135 -> 0.12 | Q59: =外掃區域!E135 -> 0.9 | R59: =外掃區域!F135 -> 0.26666667 | S59: =外掃區域!G135 -> -0.05
B60: 資源回收&垃圾處理分類扣分
B61: 二聯、勸導單扣分
B62: 未做防疫量體溫或環境消毒扣分
B63: 整體總分 | C63: =(C58+C60+C61+E61+C62)+C59 -> 7.2 | D63: =(D58+D60+D61+F61+D62)+D59 -> 7.05 | E63: =(E58+E60+E61+G61+E62)+E59 -> 8.2 | F63: =(F58+F60+F61+H61+F62)+F59 -> 4.7 | G63: =(G58+G60+G61+I61+G62)+G59 -> 8.6 | H63: =(H58+H60+H61+J61+H62)+H59 -> 7.6 | I63: =(I58+I60+I61+I62)+I59 -> 2.75 | J63: =(J58+J60+J61+J62)+J59 -> 1.75 | K63: =(K58+K60+K61+K62)+K59 -> 4.25 | L63: =(L58+L60+L61+L62)+L59 -> 2.55 | M63: =(M58+M60+M61+M62)+M59 -> 3.3 | N63: =(N58+N60+N61+N62)+N59 -> -0.28 | O63: =(O58+O60+O61+O62)+O59 -> 2.6 | P63: =(P58+P60+P61+P62)+P59 -> -1.48 | ... S63: =(S58+S60+S61+S62)+S59 -> -1.25
B64: 名次 | C64: =RANK(C63,$C$63:$H$63) -> 4 | D64: =RANK(D63,$C$63:$H$63) -> 5 | E64: =RANK(E63,$C$63:$H$63) -> 2 | F64: =RANK(F63,$C$63:$H$63) -> 6 | G64: =RANK(G63,$C$63:$H$63) -> 1 | H64: =RANK(H63,$C$63:$H$63) -> 3 | I64: =RANK(I63,$I$63:$N$63) -> 3 | J64: =RANK(J63,$I$63:$N$63) -> 5 | K64: =RANK(K63,$I$63:$N$63) -> 1 | L64: =RANK(L63,$I$63:$N$63) -> 4 | M64: =RANK(M63,$I$63:$N$63) -> 2 | N64: =RANK(N63,$I$63:$N$63) -> 6 | O64: =RANK(O63,$O$63:$S$63) -> 1 | P64: =RANK(P63,$O$63:$S$63) -> 5 | Q64: =RANK(Q63,$O$63:$S$63) -> 2 | R64: =RANK(R63,$O$63:$S$63) -> 3 | S64: =RANK(S63,$O$63:$S$63) -> 4
B65: 備註
B69: 第16週整潔比賽各年級前三名:
C70: 第一名 | D70: 第二名 | E70: 第三名
B71: 7年級 | C71: 705 | D71: 703 | E71: 706
B72: 8年級 | C72: 803 | D72: 805 | E72: 801
B73: 9年級 | C73: 901 | D73: 903

Sheet 外掃區域
B1: 外掃區評分表
B3: 週次: 第16週 上午 下午 評分者:
A5: 區域 | B5: 評分重點分數(-2~+2) | C5: 星期一 上午 | D5: 星期一 下午 | E5: 星期二 上午 | F5: 星期二 下午 | G5: 星期三 上午 | H5: 星期三 下午 | I5: 星期四 上午 | J5: 星期四 下午 | K5: 星期五 上午 | L5: 星期五 下午
A6: A區 802 | B6: 1.學務處及健康中心：地面清掃、窗戶灰塵擦拭、垃圾及資源回收傾倒 | C6: 0 | D6: 1 | E6: 1 | F6: 0 | G6: 1 | H6: 0 | I6: 0 | J6: 1 | K6: -1 | L6: 0
B7: 2.學務處前走廊、露天廣場、水溝、花圃：撿拾垃圾 | C7: 0 | D7: 1 | E7: 0 | F7: 0 | G7: 1 | H7: 1 | I7: 0 | J7: 1 | K7: 1 | L7: 0
B8: 3.學務處旁男女廁所(洗手台、鏡子、拖把槽、地面、垃圾桶、掃具間、馬桶、小便斗)：清潔乾燥 | C8: 0 | D8: 1 | E8: 1 | F8: 0 | G8: 0 | H8: 1 | I8: 0 | J8: 0 | K8: -1 | L8: 1
B9: 4.幸福班及學習中心後方花圃、階梯、草地、樓梯(往2F)：地面清潔、拔草 | C9: 0 | D9: 1 | E9: 0 | F9: 1 | G9: 1 | H9: 0 | I9: 0 | J9: 0 | K9: 0 | L9: 1 | M9: =A6 -> A區 802
B10: 總計 | C10: =SUM(C6:C9) -> 0 | D10: =SUM(D6:D9) -> 4 | E10: =SUM(E6:E9) -> 2 | F10: =SUM(F6:F9) -> 1 | G10: =SUM(G6:G9) -> 3 | H10: =SUM(H6:H9) -> 2 | I10: =SUM(I6:I9) -> 0 | J10: =SUM(J6:J9) -> 2 | ... L10: =SUM(L6:L9) -> 2 | M10: 總平均
B11: 平均 | C11: =AVERAGE(C6:C9) -> 0 | D11: =AVERAGE(D6:D9) -> 1 | E11: =AVERAGE(E6:E9) -> 0.5 | F11: =AVERAGE(F6:F9) -> 0.25 | G11: =AVERAGE(G6:G9) -> 0.75 | H11: =AVERAGE(H6:H9) -> 0.5 | I11: =AVERAGE(I6:I9) -> 0 | J11: =AVERAGE(J6:J9) -> 0.5 | ... L11: =AVERAGE(L6:L9) -> 0.5 | M11: =SUM(C11:L11)/5 -> 0.75
A12: B區 803 | B12: 1.1F穿堂、羅馬柱廣場、花崗岩地磚、舞台及諮商室兩側走廊：地面清潔、垃圾撿拾 | C12: 0 | D12: 1 | E12: 0 | F12: -1 | G12: -1 | H12: 0 | I12: 0 | J12: -1 | K12: 1 | L12: -4
B13: 2.體器室兩側往B1樓梯(含1F平台)：地面清潔、垃圾撿拾、洗手台清潔、扶手擦拭、飲水機清理 | C13: 0 | D13: 1 | E13: 0 | F13: 1 | G13: 0 | H13: 0 | I13: 0 | J13: 0 | K13: 1 | L13: 0
B14: 3.體育器材室及諮商室後方水溝：保持清潔、乾燥 | C14: 0 | D14: 1 | E14: 1 | F14: 1 | G14: 0 | H14: 1 | I14: 0 | J14: 0 | K14: 0 | L14: 0
B15: 4.圍牆內空地、花圃(含無障礙走道)、校門外人行道(含水溝)及花圃：地面清潔、撿拾垃圾、拔草 | C15: 0 | D15: 1 | E15: 1 | F15: 1 | G15: 0 | H15: 1 | I15: 0 | J15: -1 | K15: 0 | L15: 0 | M15: =A12 -> B區 803
B16: 總計 | C16: =SUM(C12:C15) -> 0 | D16: =SUM(D12:D15) -> 4 | E16: =SUM(E12:E15) -> 2 | F16: =SUM(F12:F15) -> 2 | G16: =SUM(G12:G15) -> -1 | H16: =SUM(H12:H15) -> 2 | I16: =SUM(I12:I15) -> 0 | J16: =SUM(J12:J15) -> -2 | ... L16: =SUM(L12:L15) -> -4 | M16: 總平均
B17: 平均 | C17: =AVERAGE(C12:C15) -> 0 | D17: =AVERAGE(D12:D15) -> 1 | E17: =AVERAGE(E12:E15) -> 0.5 | F17: =AVERAGE(F12:F15) -> 0.5 | G17: =AVERAGE(G12:G15) -> -0.25 | H17: =AVERAGE(H12:H15) -> 0.5 | I17: =AVERAGE(I12:I15) -> 0 | J17: =AVERAGE(J12:J15) -> -0.5 | ... L17: =AVERAGE(L12:L15) -> -1 | M17: =SUM(C17:L17)/5 -> 0.25
A18: C區 804 | B18: 1.總務處：地面清潔、窗戶灰塵擦拭、垃圾及資源回收傾倒 | C18: 0 | D18: -1 | E18: 1 | F18: 0 | G18: 1 | H18: 1 | I18: 0 | J18: 0 | K18: 1 | L18: 0
B19: 2.總務處前走廊、後走廊、露天廣場、水溝、花圃及中棟幼兒園樓梯(往2F)：地面清潔、撿拾垃圾 | C19: 0 | D19: 0 | E19: -1 | F19: 0 | G19: 1 | H19: 1 | I19: 0 | J19: 1 | K19: 1 | L19: 1
B20: 3.總務處旁男女廁所(洗手台、鏡子、拖把槽、地面、垃圾桶、掃具間、馬桶、小便斗)：清潔乾燥 | C20: 0 | D20: 0 | E20: 0 | F20: 0 | G20: 0 | H20: 1 | I20: 0 | J20: 1 | K20: 1 | L20: -2 | M20: =A18 -> C區 804
B21: 總計 | C21: =SUM(C18:C20) -> 0 | D21: =SUM(D18:D20) -> -1 | E21: =SUM(E18:E20) -> 0 | F21: =SUM(F18:F20) -> 0 | G21: =SUM(G18:G20) -> 2 | H21: =SUM(H18:H20) -> 3 | I21: =SUM(I18:I20) -> 0 | J21: =SUM(J18:J20) -> 2 | ... L21: =SUM(L18:L20) -> -1 | M21: 總平均
B22: 平均 | C22: =AVERAGE(C18:C20) -> 0 | D22: =AVERAGE(D18:D20) -> -0.33333333 | E22: =AVERAGE(E18:E20) -> 0 | F22: =AVERAGE(F18:F20) -> 0 | G22: =AVERAGE(G18:G20) -> 0.66666667 | H22: =AVERAGE(H18:H20) -> 1 | I22: =AVERAGE(I18:I20) -> 0 | J22: =AVERAGE(J18:J20) -> 0.66666667 | ... L22: =AVERAGE(L18:L20) -> -0.33333333 | M22: =SUM(C22:L22)/5 -> 0.53333333
A23: D區 804 | B23: 1.籃球場、垃圾子母車、花圃及警衛室連接總務處風雨走廊：地面清潔、垃圾撿拾 | C23: 0 | D23: -1 | E23: 0 | F23: 0 | G23: 0 | H23: 1 | I23: 0 | J23: 0 | K23: -1 | L23: 0 | M23: =A23 -> D區 804
B24: 總計 | C24: =SUM(C23:C23) -> 0 | D24: =SUM(D23:D23) -> -1 | E24: =SUM(E23:E23) -> 0 | F24: =SUM(F23:F23) -> 0 | G24: =SUM(G23:G23) -> 0 | H24: =SUM(H23:H23) -> 1 | I24: =SUM(I23:I23) -> 0 | J24: =SUM(J23:J23) -> 0 | ... L24: =SUM(L23:L23) -> 0 | M24: 總平均
B25: 平均 | C25: =AVERAGE(C23:C23) -> 0 | D25: =AVERAGE(D23:D23) -> -1 | E25: =AVERAGE(E23:E23) -> 0 | F25: =AVERAGE(F23:F23) -> 0 | G25: =AVERAGE(G23:G23) -> 0 | H25: =AVERAGE(H23:H23) -> 1 | I25: =AVERAGE(I23:I23) -> 0 | J25: =AVERAGE(J23:J23) -> 0 | ... L25: =AVERAGE(L23:L23) -> 0 | M25: =SUM(C25:L25)/5 -> -0.2
A26: E區 805 | B26: 1.八導辦公室：地面清掃、窗戶灰塵擦拭、垃圾及資源回收傾倒、飲水機清理 | C26: 0 | D26: 0 | E26: 1 | F26: -1 | G26: 0 | H26: 0 | I26: 0 | J26: 1 | K26: 1 | L26: 1
B27: 2.八導辦公室前走廊：地面清潔、花圃澆水、洗手台清理 | C27: 0 | D27: 0 | E27: 1 | F27: 0 | G27: 1 | H27: -1 | I27: 0 | J27: 1 | K27: 1 | L27: 1
B28: 3.校長室旁男女廁所(洗手台、鏡子、拖把槽、地面、垃圾桶、掃具間、馬桶、小便斗)：清潔乾燥 | C28: 0 | D28: 1 | E28: -2 | F28: 1 | G28: 1 | H28: 1 | I28: 0 | J28: 1 | K28: 1 | L28: 1
B29: 4.廁所前空地、飲水機：地面清潔、飲水機擦拭 | C29: 0 | D29: 0 | E29: 1 | F29: 1 | G29: 1 | H29: 1 | I29: 0 | J29: 0 | K29: 1 | L29: 1 | M29: =A26 -> E區 805
B30: 總計 | C30: =SUM(C26:C29) -> 0 | D30: =SUM(D26:D29) -> 1 | E30: =SUM(E26:E29) -> 1 | F30: =SUM(F26:F29) -> 1 | G30: =SUM(G26:G29) -> 3 | H30: =SUM(H26:H29) -> 1 | I30: =SUM(I26:I29) -> 0 | J30: =SUM(J26:J29) -> 3 | ... L30: =SUM(L26:L29) -> 4 | M30: 總平均
B31: 平均 | C31: =AVERAGE(C26:C29) -> 0 | D31: =AVERAGE(D26:D29) -> 0.25 | E31: =AVERAGE(E26:E29) -> 0.25 | F31: =AVERAGE(F26:F29) -> 0.25 | G31: =AVERAGE(G26:G29) -> 0.75 | H31: =AVERAGE(H26:H29) -> 0.25 | I31: =AVERAGE(I26:I29) -> 0 | J31: =AVERAGE(J26:J29) -> 0.75 | ... L31: =AVERAGE(L26:L29) -> 1 | M31: =SUM(C31:L31)/5 -> 0.9
A32: F區 801 | B32: 1.教務處旁男女廁所(洗手台、鏡子、拖把槽、地面、垃圾桶、掃具間、馬桶、小便斗)：清潔乾燥 | C32: 0 | D32: -2 | E32: 0 | F32: -2 | G32: 1 | H32: -1 | I32: 0 | J32: 0 | K32: 0 | L32: 1
B33: 2.廁所前空地、飲水機：地面清潔、飲水機擦拭 | C33: 0 | D33: 1 | E33: 1 | F33: 0 | G33: 0 | H33: 0 | I33: 0 | J33: 0 | K33: 1 | L33: 0
B34: 3.教務處：地面清潔、垃圾及資源回收傾倒、走廊、窗戶、飲水機、洗手台 | C34: 0 | D34: -1 | E34: 0 | F34: 0 | G34: 0 | H34: 0 | I34: 0 | J34: 0 | K34: 1 | L34: 0
B35: 4.教務處走廊(含左前方走廊)：地面清潔、洗手台清理、花圃澆水 | C35: 0 | D35: 1 | E35: 0 | F35: 1 | G35: 0 | H35: 1 | I35: 0 | J35: -1 | K35: 1 | L35: 0 | M35: =A32 -> F區 801
B36: 總計 | C36: =SUM(C32:C35) -> 0 | D36: =SUM(D32:D35) -> -1 | E36: =SUM(E32:E35) -> 1 | F36: =SUM(F32:F35) -> -1 | G36: =SUM(G32:G35) -> 1 | H36: =SUM(H32:H35) -> 0 | I36: =SUM(I32:I35) -> 0 | J36: =SUM(J32:J35) -> -1 | ... L36: =SUM(L32:L35) -> 1 | M36: 總平均
B37: 平均 | C37: =AVERAGE(C32:C35) -> 0 | D37: =AVERAGE(D32:D35) -> -0.25 | E37: =AVERAGE(E32:E35) -> 0.25 | F37: =AVERAGE(F32:F35) -> -0.25 | G37: =AVERAGE(G32:G35) -> 0.25 | H37: =AVERAGE(H32:H35) -> 0 | I37: =AVERAGE(I32:I35) -> 0 | J37: =AVERAGE(J32:J35) -> -0.25 | ... L37: =AVERAGE(L32:L35) -> 0.25 | M37: =SUM(C37:L37)/5 -> 0.15
A38: G區 706 | B38: 1.2F校史室前方廣場及兩側走廊、人工草皮：地面清潔、垃圾撿拾、洗手台、飲水機清理及花圃澆水 | C38: 0 | D38: -1 | E38: 0 | F38: 1 | G38: 0 | H38: -1 | I38: 0 | J38: 1 | K38: -1 | L38: 0
B39: 2.3F英語教室、儲藏室前方廣場及兩側走廊：地面清潔、垃圾撿拾、洗手台、飲水機清理及花圃澆水 | C39: 0 | D39: 1 | E39: 1 | F39: 1 | G39: 1 | H39: 1 | I39: 0 | J39: 1 | K39: 1 | L39: 1
B40: 3.2F印刷室及3F英語教室兩邊外側玻璃窗戶及展示玻璃：擦拭清潔 | C40: 0 | D40: 1 | E40: -1 | F40: 0 | G40: -1 | H40: 1 | I40: 0 | J40: 0 | K40: 0 | L40: 1
B41: 4.3F-706隔壁自我挑戰營前走廊：地面清潔 | C41: 0 | D41: 1 | E41: 1 | F41: 0 | G41: -1 | H41: 0 | I41: 0 | J41: 1 | K41: 1 | L41: 1 | M41: =A38 -> G區 706
B42: 總計 | C42: =SUM(C38:C41) -> 0 | D42: =SUM(D38:D41) -> 2 | E42: =SUM(E38:E41) -> 1 | F42: =SUM(F38:F41) -> 2 | G42: =SUM(G38:G41) -> -1 | H42: =SUM(H38:H41) -> 1 | I42: =SUM(I38:I41) -> 0 | J42: =SUM(J38:J41) -> 3 | ... L42: =SUM(L38:L41) -> 3 | M42: 總平均
B43: 平均 | C43: =AVERAGE(C38:C41) -> 0 | D43: =AVERAGE(D38:D41) -> 0.5 | E43: =AVERAGE(E38:E41) -> 0.25 | F43: =AVERAGE(F38:F41) -> 0.5 | G43: =AVERAGE(G38:G41) -> -0.25 | H43: =AVERAGE(H38:H41) -> 0.25 | I43: =AVERAGE(I38:I41) -> 0 | J43: =AVERAGE(J38:J41) -> 0.75 | ... L43: =AVERAGE(L38:L41) -> 0.75 | M43: =SUM(C43:L43)/5 -> 0.6
A46: H區 905 | B46: 1.自我挑戰營、夜自習教室沿伸至人事/會計室前走廊：地面清潔 | C46: 0 | D46: 1 | E46: 0 | F46: 1 | G46: 1 | H46: 0 | I46: 0 | J46: 0 | K46: 0 | L46: 1
B47: 2.會計/人事室旁男女廁所(洗手台、鏡子、拖把槽、地面、垃圾桶、掃具間、馬桶、小便斗)：清潔乾燥 | C47: 0 | D47: -2 | E47: -2 | F47: -2 | G47: -1 | H47: -1 | I47: 0 | J47: 0 | K47: 0 | L47: -2
B48: 3.會計/人事室：地面清潔、垃圾及資源回收傾倒、窗戶 | C48: 0 | D48: 0 | E48: 1 | F48: 1 | G48: 0 | H48: -1 | I48: 0 | J48: 0 | K48: 1 | L48: 0
B49: 4.人事/會計前花圃：澆水、拔草 | C49: 0 | D49: 0 | E49: 0 | F49: 1 | G49: 0 | H49: 0 | I49: 0 | J49: 1 | K49: 1 | L49: 0 | M49: =A46 -> H區 905
B50: 總計 | C50: =SUM(C46:C49) -> 0 | D50: =SUM(D46:D49) -> -1 | E50: =SUM(E46:E49) -> -1 | F50: =SUM(F46:F49) -> 1 | G50: =SUM(G46:G49) -> 0 | H50: =SUM(H46:H49) -> -2 | I50: =SUM(I46:I49) -> 0 | J50: =SUM(J46:J49) -> 1 | ... L50: =SUM(L46:L49) -> -1 | M50: 總平均
B51: 平均 | C51: =AVERAGE(C46:C49) -> 0 | D51: =AVERAGE(D46:D49) -> -0.25 | E51: =AVERAGE(E46:E49) -> -0.25 | F51: =AVERAGE(F46:F49) -> 0.25 | G51: =AVERAGE(G46:G49) -> 0 | H51: =AVERAGE(H46:H49) -> -0.5 | I51: =AVERAGE(I46:I49) -> 0 | J51: =AVERAGE(J46:J49) -> 0.25 | ... L51: =AVERAGE(L46:L49) -> -0.25 | M51: =SUM(C51:L51)/5 -> -0.05
A52: I區 806 | B52: 1.706前走廊沿伸至廁所前走廊：地面整潔 | C52: 0 | D52: 2 | E52: 0 | F52: -1 | G52: 0 | H52: 0 | I52: 0 | J52: -1 | K52: -1 | L52: 1
B53: 2.圖書館前面走廊：地面清潔、花圃澆水 | C53: 0 | D53: 1 | E53: -1 | F53: 0 | G53: 0 | H53: 0 | I53: 0 | J53: -2 | K53: -2 | L53: 0
B54: 3.圖書館旁男女廁所(洗手台、鏡子、拖把槽、地面、垃圾桶、掃具間、馬桶、小便斗)：清潔乾燥 | C54: 0 | D54: 1 | E54: -1 | F54: -2 | G54: 1 | H54: -2 | I54: 0 | J54: -2 | K54: -2 | L54: 0
B55: 4.校長室：地面清潔、垃圾及資源回收傾倒、窗戶、飲水機清潔 | C55: 0 | D55: 1 | E55: 0 | F55: 0 | G55: 1 | H55: 1 | I55: 0 | J55: 1 | K55: 1 | L55: 1
B56: 5.校長室前走廊(含右前方走廊)及後走廊：地面清潔、撿拾垃圾、花圃澆水 | C56: 0 | D56: -1 | E56: 1 | F56: 1 | G56: 1 | H56: 0 | I56: 0 | J56: -2 | K56: 0 | L56: -2 | M56: =A52 -> I區 806
B57: 總計 | C57: =SUM(C52:C56) -> 0 | D57: =SUM(D52:D56) -> 4 | E57: =SUM(E52:E56) -> -1 | F57: =SUM(F52:F56) -> -2 | G57: =SUM(G52:G56) -> 3 | H57: =SUM(H52:H56) -> -1 | I57: =SUM(I52:I56) -> 0 | J57: =SUM(J52:J56) -> -6 | ... L57: =SUM(L52:L56) -> 0 | M57: 總平均
B58: 平均 | C58: =AVERAGE(C52:C56) -> 0 | D58: =AVERAGE(D52:D56) -> 0.8 | E58: =AVERAGE(E52:E56) -> -0.2 | F58: =AVERAGE(F52:F56) -> -0.4 | G58: =AVERAGE(G52:G56) -> 0.6 | H58: =AVERAGE(H52:H56) -> -0.2 | I58: =AVERAGE(I52:I56) -> 0 | J58: =AVERAGE(J52:J56) -> -1.2 | ... L58: =AVERAGE(L52:L56) -> 0 | M58: =SUM(C58:L58)/5 -> -0.28
A59: J區 702 | B59: 1.英語文化教室前方廣場及兩側走廊：地面清潔、洗手台飲水機清理 | C59: 0 | D59: 1 | E59: 0 | F59: -1 | G59: 0 | H59: 1 | I59: 0 | J59: 1 | K59: 1 | L59: 0
B60: 2.英語文化教室左側2F~5F樓梯：地面清潔、扶手擦拭、花圃澆水 | C60: 0 | D60: 1 | E60: 0 | F60: 0 | G60: 0 | H60: 0 | I60: 0 | J60: 1 | K60: 1 | L60: 0
B61: 3.英語文化教室及哺乳室窗戶、展示玻璃：擦拭清理 | C61: 0 | D61: 1 | E61: 1 | F61: 1 | G61: 1 | H61: 0 | I61: 0 | J61: 0 | K61: 0 | L61: 1
B62: 4.七導辦公室、前方走廊及後陽台：地面清掃、窗戶灰塵擦拭、垃圾及資源回收傾倒、洗手台飲水機清理 | C62: 0 | D62: 1 | E62: 1 | F62: 1 | G62: 0 | H62: 1 | I62: 0 | J62: 1 | K62: 0 | L62: 1 | M62: =A59 -> J區 702
B63: 總計 | C63: =SUM(C59:C62) -> 0 | D63: =SUM(D59:D62) -> 4 | E63: =SUM(E59:E62) -> 2 | F63: =SUM(F59:F62) -> 1 | G63: =SUM(G59:G62) -> 1 | H63: =SUM(H59:H62) -> 2 | I63: =SUM(I59:I62) -> 0 | J63: =SUM(J59:J62) -> 3 | ... L63: =SUM(L59:L62) -> 2 | M63: 總平均
B64: 平均 | C64: =AVERAGE(C59:C62) -> 0 | D64: =AVERAGE(D59:D62) -> 1 | E64: =AVERAGE(E59:E62) -> 0.5 | F64: =AVERAGE(F59:F62) -> 0.25 | G64: =AVERAGE(G59:G62) -> 0.25 | H64: =AVERAGE(H59:H62) -> 0.5 | I64: =AVERAGE(I59:I62) -> 0 | J64: =AVERAGE(J59:J62) -> 0.75 | ... L64: =AVERAGE(L59:L62) -> 0.5 | M64: =SUM(C64:L64)/5 -> 0.85
A65: K區 701 | B65: 1.教師研究室：地面清掃、窗戶灰塵擦拭、垃圾及資源回收傾倒、飲水機清理 | C65: 0 | D65: 0 | E65: -1 | F65: -1 | G65: 0 | H65: 1 | I65: 0 | J65: 1 | K65: 1 | L65: 0
B66: 2.教師研究室前方走廊：地面清潔、花圃澆水、洗手台清理 | C66: 0 | D66: 2 | E66: 0 | F66: 0 | G66: 1 | H66: 1 | I66: 0 | J66: 1 | K66: 0 | L66: 0
B67: 3.新住民學習中心旁男女廁所(洗手台、鏡子、拖把槽、地面、垃圾桶、掃具間、馬桶、小便斗)：清潔乾燥 | C67: 0 | D67: 1 | E67: 1 | F67: 1 | G67: 1 | H67: 0 | I67: 0 | J67: 0 | K67: 1 | L67: 1
B68: 4.新住民學習中心旁1F~頂樓樓梯(含5F、頂樓平台)及電梯：地面清潔、扶手擦拭、電梯內鏡面擦拭 | C68: 0 | D68: 0 | E68: 0 | F68: 0 | G68: 1 | H68: 1 | I68: 0 | J68: 0 | K68: 1 | L68: 1 | M68: =A65 -> K區 701
B69: 總計 | C69: =SUM(C65:C68) -> 0 | D69: =SUM(D65:D68) -> 3 | E69: =SUM(E65:E68) -> 0 | F69: =SUM(F65:F68) -> 0 | G69: =SUM(G65:G68) -> 3 | H69: =SUM(H65:H68) -> 3 | I69: =SUM(I65:I68) -> 0 | J69: =SUM(J65:J68) -> 2 | ... L69: =SUM(L65:L68) -> 2 | M69: 總平均
B70: 平均 | C70: =AVERAGE(C65:C68) -> 0 | D70: =AVERAGE(D65:D68) -> 0.75 | E70: =AVERAGE(E65:E68) -> 0 | F70: =AVERAGE(F65:F68) -> 0 | G70: =AVERAGE(G65:G68) -> 0.75 | H70: =AVERAGE(H65:H68) -> 0.75 | I70: =AVERAGE(I65:I68) -> 0 | J70: =AVERAGE(J65:J68) -> 0.5 | ... L70: =AVERAGE(L65:L68) -> 0.5 | M70: =SUM(C70:L70)/5 -> 0.8
A71: L區 704 | B71: 1.輔導室：地面清掃、窗戶灰塵擦拭、垃圾及資源回收傾倒、飲水機清理 | C71: 0 | D71: 1 | E71: -1 | F71: 0 | G71: 0 | H71: -2 | I71: 0 | J71: -1 | K71: 0 | L71: 0
B72: 2.輔導室前走廊：地面清潔、花圃澆水、洗手台清理 | C72: 0 | D72: 1 | E72: 0 | F72: -2 | G72: 1 | H72: 0 | I72: 0 | J72: -1 | K72: -1 | L72: 2
B73: 3.輔導室旁男女廁所(洗手台、鏡子、拖把槽、地面、垃圾桶、掃具間、馬桶、小便斗)：清潔乾燥 | C73: 0 | D73: 1 | E73: -1 | F73: -1 | G73: 0 | H73: -2 | I73: 0 | J73: -2 | K73: -2 | L73: -1
B74: 4.輔導室旁1F~頂樓樓梯(含5F、頂樓平台)：地面清潔、扶手擦拭 | C74: 0 | D74: 0 | E74: 0 | F74: 0 | G74: 1 | H74: 0 | I74: 0 | J74: 0 | K74: 0 | L74: 0 | M74: =A71 -> L區 704
B75: 總計 | C75: =SUM(C71:C74) -> 0 | D75: =SUM(D71:D74) -> 3 | E75: =SUM(E71:E74) -> -2 | F75: =SUM(F71:F74) -> -3 | G75: =SUM(G71:G74) -> 2 | H75: =SUM(H71:H74) -> -4 | I75: =SUM(I71:I74) -> 0 | J75: =SUM(J71:J74) -> -4 | ... L75: =SUM(L71:L74) -> 1 | M75: 總平均
B76: 平均 | C76: =AVERAGE(C71:C74) -> 0 | D76: =AVERAGE(D71:D74) -> 0.75 | E76: =AVERAGE(E71:E74) -> -0.5 | F76: =AVERAGE(F71:F74) -> -0.75 | G76: =AVERAGE(G71:G74) -> 0.5 | H76: =AVERAGE(H71:H74) -> -1 | I76: =AVERAGE(I71:I74) -> 0 | J76: =AVERAGE(J71:J74) -> -1 | ... L76: =AVERAGE(L71:L74) -> 0.25 | M76: =SUM(C76:L76)/5 -> -0.5
A77: M區 703 | B77: 1.五樓兩側男廁：小便池、蹲式馬桶、洗手台、鏡子、拖把槽、地面清潔、垃圾桶、掃具間 | C77: 0 | D77: -1 | E77: 0 | F77: -2 | G77: -2 | H77: 0 | I77: 0 | J77: 0 | K77: 0 | L77: 0
B78: 2.五樓兩側女廁：小便池、蹲式馬桶、洗手台、鏡子、拖把槽、地面清潔、垃圾桶、掃具間 | C78: 0 | D78: 0 | E78: 0 | F78: 0 | G78: 0 | H78: 0 | I78: 0 | J78: 0 | K78: 1 | L78: 0
B79: 3.電腦教室、職群體驗中心、兩側廁所前走廊、飲水機：地面清潔、窗戶擦拭 | C79: 0 | D79: 2 | E79: 1 | F79: 2 | G79: 2 | H79: 1 | I79: 0 | J79: 2 | K79: 2 | L79: 1 | M79: =A77 -> M區 703
B80: 總計 | C80: =SUM(C77:C79) -> 0 | D80: =SUM(D77:D79) -> 1 | E80: =SUM(E77:E79) -> 1 | F80: =SUM(F77:F79) -> 0 | G80: =SUM(G77:G79) -> 0 | H80: =SUM(H77:H79) -> 1 | I80: =SUM(I77:I79) -> 0 | J80: =SUM(J77:J79) -> 2 | ... L80: =SUM(L77:L79) -> 1 | M80: 總平均
B81: 平均 | C81: =AVERAGE(C77:C79) -> 0 | D81: =AVERAGE(D77:D79) -> 0.33333333 | E81: =AVERAGE(E77:E79) -> 0.33333333 | F81: =AVERAGE(F77:F79) -> 0 | G81: =AVERAGE(G77:G79) -> 0 | H81: =AVERAGE(H77:H79) -> 0.33333333 | I81: =AVERAGE(I77:I79) -> 0 | J81: =AVERAGE(J77:J79) -> 0.66666667 | ... L81: =AVERAGE(L77:L79) -> 0.33333333 | M81: =SUM(C81:L81)/5 -> 0.6
A82: N區 | M82: =A82 -> N區
B83: 總計 | M83: 總平均
B84: 平均 | M84: =SUM(C84:L84)/5 -> 0
B86: 外掃區評分表
B88: 週次: 第16週 上午 下午 評分者:
A90: 區域 | B90: 評分重點分數(-2~+2) | C90: 星期一 上午 | D90: 星期一 下午 | E90: 星期二 上午 | F90: 星期二 下午 | G90: 星期三 上午 | H90: 星期三 下午 | I90: 星期四 上午 | J90: 星期四 下午 | K90: 星期五 上午 | L90: 星期五 下午
A91: O區 | C91: 0 | D91: 0 | E91: 0 | F91: 0 | G91: 0 | H91: 0 | I91: 0 | J91: 0 | K91: 0 | L91: 0 | M91: =A91 -> O區
B92: 總計 | C92: =SUM(C91:C91) -> 0 | D92: =SUM(D91:D91) -> 0 | E92: =SUM(E91:E91) -> 0 | F92: =SUM(F91:F91) -> 0 | G92: =SUM(G91:G91) -> 0 | H92: =SUM(H91:H91) -> 0 | I92: =SUM(I91:I91) -> 0 | J92: =SUM(J91:J91) -> 0 | ... L92: =SUM(L91:L91) -> 0 | M92: 總平均
B93: 平均 | C93: =AVERAGE(C91:C91) -> 0 | D93: =AVERAGE(D91:D91) -> 0 | E93: =AVERAGE(E91:E91) -> 0 | F93: =AVERAGE(F91:F91) -> 0 | G93: =AVERAGE(G91:G91) -> 0 | H93: =AVERAGE(H91:H91) -> 0 | I93: =AVERAGE(I91:I91) -> 0 | J93: =AVERAGE(J91:J91) -> 0 | ... L93: =AVERAGE(L91:L91) -> 0 | M93: =SUM(C93:L93)/5 -> 0
A94: P區 904 | B94: 1.NEW大樓1樓停車場：地面清潔、垃圾撿拾、扶手擦拭 | C94: 0 | D94: 0 | E94: 0 | F94: 0 | G94: 0 | H94: 0 | I94: 0 | J94: 0 | K94: 0 | L94: 0
B95: 2.小籃球場、後門：垃圾、樹枝、落葉撿拾 | C95: 0 | D95: 0 | E95: 0 | F95: 0 | G95: 0 | H95: 0 | I95: 0 | J95: 0 | K95: 0 | L95: 0
B96: 3.斜坡：垃圾、樹枝、落葉撿拾 | C96: 0 | D96: 0 | E96: 0 | F96: 0 | G96: 0 | H96: 0 | I96: 0 | J96: 1 | K96: 1 | L96: 2 | M96: =A94 -> P區 904
B97: 總計 | C97: =SUM(C94:C96) -> 0 | D97: =SUM(D94:D96) -> 0 | E97: =SUM(E94:E96) -> 0 | F97: =SUM(F94:F96) -> 0 | G97: =SUM(G94:G96) -> 0 | H97: =SUM(H94:H96) -> 0 | I97: =SUM(I94:I96) -> 0 | J97: =SUM(J94:J96) -> 1 | ... L97: =SUM(L94:L96) -> 2 | M97: 總平均
B98: 平均 | C98: =AVERAGE(C94:C96) -> 0 | D98: =AVERAGE(D94:D96) -> 0 | E98: =AVERAGE(E94:E96) -> 0 | F98: =AVERAGE(F94:F96) -> 0 | G98: =AVERAGE(G94:G96) -> 0 | H98: =AVERAGE(H94:H96) -> 0 | I98: =AVERAGE(I94:I96) -> 0 | J98: =AVERAGE(J94:J96) -> 0.33333333 | ... L98: =AVERAGE(L94:L96) -> 0.66666667 | M98: =SUM(C98:L98)/5 -> 0.26666667
A99: Q區 903 | B99: 1.中央廣場：地面(含木地板、草地、水溝)清潔、垃圾撿拾 | C99: 0 | D99: -1 | E99: 0 | F99: 1 | G99: 1 | H99: 0 | I99: 0 | J99: 1 | K99: 2 | L99: 2 | M99: =A99 -> Q區 903
B100: 總計 | C100: =SUM(C99:C99) -> 0 | D100: =SUM(D99:D99) -> -1 | E100: =SUM(E99:E99) -> 0 | F100: =SUM(F99:F99) -> 1 | G100: =SUM(G99:G99) -> 1 | H100: =SUM(H99:H99) -> 0 | I100: =SUM(I99:I99) -> 0 | J100: =SUM(J99:J99) -> 1 | ... L100: =SUM(L99:L99) -> 2 | M100: 總平均
B101: 平均 | C101: =AVERAGE(C99:C99) -> 0 | D101: =AVERAGE(D99:D99) -> -1 | E101: =AVERAGE(E99:E99) -> 0 | F101: =AVERAGE(F99:F99) -> 1 | G101: =AVERAGE(G99:G99) -> 1 | H101: =AVERAGE(H99:H99) -> 0 | I101: =AVERAGE(I99:I99) -> 0 | J101: =AVERAGE(J99:J99) -> 1 | ... L101: =AVERAGE(L99:L99) -> 2 | M101: =SUM(C101:L101)/5 -> 1.2
A102: R區 901 | B102: 1.九導辦公室：地面清潔、垃圾及資源回收傾倒、窗戶擦拭、飲水機清洗、冰箱整理、洗手台清潔 | C102: 0 | D102: 1 | E102: 1 | F102: 1 | G102: 1 | H102: 2 | I102: 0 | J102: 2 | K102: 2 | L102: 2
B103: 2.九導辦公室走廊：地面清潔、垃圾撿拾 | C103: 0 | D103: 0 | E103: 1 | F103: 1 | G103: 2 | H103: 2 | I103: 0 | J103: 1 | K103: 1 | L103: 2
B104: 3.兩側廁所中間走廊：地面清潔、垃圾撿拾 | C104: 0 | D104: 1 | E104: 0 | F104: 1 | G104: 1 | H104: 0 | I104: 0 | J104: 1 | K104: 1 | L104: 0
B105: 4.九導辦公室旁男女廁所(洗手台、鏡子、拖把槽、地面、垃圾桶、掃具間、馬桶、小便斗)：清潔乾燥 | C105: 0 | D105: 0 | E105: 1 | F105: 1 | G105: 1 | H105: 0 | I105: 0 | J105: 1 | K105: 2 | L105: -1 | M105: =A102 -> R區 901
B106: 總計 | C106: =SUM(C102:C105) -> 0 | D106: =SUM(D102:D105) -> 2 | E106: =SUM(E102:E105) -> 3 | F106: =SUM(F102:F105) -> 4 | G106: =SUM(G102:G105) -> 5 | H106: =SUM(H102:H105) -> 4 | I106: =SUM(I102:I105) -> 0 | J106: =SUM(J102:J105) -> 5 | ... L106: =SUM(L102:L105) -> 3 | M106: 總平均
B107: 平均 | C107: =AVERAGE(C102:C105) -> 0 | D107: =AVERAGE(D102:D105) -> 0.5 | E107: =AVERAGE(E102:E105) -> 0.75 | F107: =AVERAGE(F102:F105) -> 1 | G107: =AVERAGE(G102:G105) -> 1.25 | H107: =AVERAGE(H102:H105) -> 1 | I107: =AVERAGE(I102:I105) -> 0 | J107: =AVERAGE(J102:J105) -> 1.25 | ... L107: =AVERAGE(L102:L105) -> 0.75 | M107: =SUM(C107:L107)/5 -> 1.6
...
